BEGIN:VCALENDAR
VERSION:2.0
PRODID:-//ChamberMaster//Event Calendar 2.0//EN
METHOD:PUBLISH
X-PUBLISHED-TTL:P3D
REFRESH-INTERVAL:P3D
CALSCALE:GREGORIAN
BEGIN:VEVENT
DTSTART:20260116T180000Z
DTEND:20260116T193000Z
X-MICROSOFT-CDO-ALLDAYEVENT:FALSE
SUMMARY:The Empowered Caregiver: Communicating Effectively & Responding to Dementia-Related Behaviors at Gloversville Public Library
DESCRIPTION:Join us to discover new ways to communicate effectievly at any stage of the disease. You will learn tips to improve communication\, steps to recognize and manage dementia-related behaviors and their triggers\, and how to recognize when additional help is needed. \n\n\n\nRegistration requested
X-ALT-DESC;FMTTYPE=text/html:<span style="color: rgb(0\, 0\, 0)\; font-family: georgia\; font-size: 16px\;">Join us to discover new ways to communicate effectievly at any stage of the disease. You will learn tips to improve communication\, steps to recognize and manage dementia-related behaviors and their triggers\, and how to recognize when additional help is needed.&nbsp\;<br />\n<br />\n<strong>Registration requested</strong></span>
LOCATION:Large Meeting Room\, Gloversville Public Library\, 58 East Fulton Street\, Gloversville
UID:e.97.47090
SEQUENCE:3
DTSTAMP:20260422T144859Z
URL:https://business.fultonmontgomeryny.org/events/details/the-empowered-caregiver-communicating-effectively-responding-to-dementia-related-behaviors-at-gloversville-public-library-47090
END:VEVENT

END:VCALENDAR
