BEGIN:VCALENDAR
VERSION:2.0
PRODID:-//ChamberMaster//Event Calendar 2.0//EN
METHOD:PUBLISH
X-PUBLISHED-TTL:P3D
REFRESH-INTERVAL:P3D
CALSCALE:GREGORIAN
BEGIN:VEVENT
DTSTART:20250212T160000Z
DTEND:20250212T170000Z
X-MICROSOFT-CDO-ALLDAYEVENT:FALSE
SUMMARY:The Eight and American Impressionism at the Arkell Museum
DESCRIPTION:Join us via Zoom at 11 am on February 12th as Mary Alexander\, Curator of Education at the Arkell Museum\, will use the Arkell Museum's fine art collection to discuss the role of The Eight- a group of young influential American artists that broke away from the academy and exhibited art on their own terms. She will also look at American Impressionism and the role of The Eight in bringing American Impressionism to the public eye. \n\n\n\nThis is a Free program and will be delivered via Zoom.\n\nTo register please follow this link https://bit.ly/americanimpressionism0212
X-ALT-DESC;FMTTYPE=text/html:<span style="color:rgb(33\, 37\, 41)\; font-family:-apple-system\,blinkmacsystemfont\,segoe ui\,roboto\,helvetica neue\,arial\,noto sans\,sans-serif\,apple color emoji\,segoe ui emoji\,segoe ui symbol\,noto color emoji\; font-size:16px">Join us via Zoom at 11 am on February 12th as Mary Alexander\, Curator of Education at the Arkell Museum\, will use the Arkell Museum&#39\;s fine art collection to discuss the role of The Eight- a group of young influential American artists that broke away from the academy and exhibited art on their own terms. She will also look at American Impressionism and the role of The Eight in bringing American Impressionism to the public eye.&nbsp\;</span><br />\n<br />\n<span style="color:rgb(33\, 37\, 41)\; font-family:-apple-system\,blinkmacsystemfont\,segoe ui\,roboto\,helvetica neue\,arial\,noto sans\,sans-serif\,apple color emoji\,segoe ui emoji\,segoe ui symbol\,noto color emoji\; font-size:16px">This is a Free program and will be delivered via Zoom.</span><br />\n<span style="color:rgb(33\, 37\, 41)\; font-family:-apple-system\,blinkmacsystemfont\,segoe ui\,roboto\,helvetica neue\,arial\,noto sans\,sans-serif\,apple color emoji\,segoe ui emoji\,segoe ui symbol\,noto color emoji\; font-size:16px">To register please follow this link&nbsp\;https://bit.ly/americanimpressionism0212</span>
LOCATION:Presented via Zoom.
UID:e.97.45058
SEQUENCE:3
DTSTAMP:20260424T072818Z
URL:https://business.fultonmontgomeryny.org/events/details/the-eight-and-american-impressionism-at-the-arkell-museum-45058
END:VEVENT

END:VCALENDAR
