BEGIN:VCALENDAR
VERSION:2.0
PRODID:-//ChamberMaster//Event Calendar 2.0//EN
METHOD:PUBLISH
X-PUBLISHED-TTL:P3D
REFRESH-INTERVAL:P3D
CALSCALE:GREGORIAN
BEGIN:VEVENT
DTSTART:20240707T160000Z
DTEND:20240707T203000Z
X-MICROSOFT-CDO-ALLDAYEVENT:FALSE
SUMMARY:Square Dancing at Shoeleather Express
DESCRIPTION:next dance\n\n \n\nSaturday\, July 7th\n\ncaller Elaine Mikenas\n\n \n\n12:00  Square Dancing\n\n             no experience necessary\n\n \n\n  1:00  Pot Luck Lunch\n\n \n\n  2:00  Square Dancing\, Mainstream & Plus\n\n              with Round Dancing Phase 2-4
X-ALT-DESC;FMTTYPE=text/html:<div style="color: rgb(0\, 0\, 0)\; font-family: &quot\;Times New Roman&quot\;\; background-color: rgb(0\, 0\, 0)\; font-size: 1px\; line-height: 1px\;"><font class="size16 Helvetica16" color="#E9EAF7" style="font-size: 20px\; font-family: Arial\, Helvetica\, adobe-helvetica\, &quot\;Arial Narrow&quot\;\; line-height: 23px\; min-height: 23px\;"><u>next dance</u></font></div>\n\n<div style="color: rgb(0\, 0\, 0)\; font-family: &quot\;Times New Roman&quot\;\; background-color: rgb(0\, 0\, 0)\; font-size: 1px\; line-height: 1px\;">&nbsp\;</div>\n\n<div align="left" style="color: rgb(0\, 0\, 0)\; font-family: &quot\;Times New Roman&quot\;\; background-color: rgb(0\, 0\, 0)\; font-size: 1px\; line-height: 1px\;"><font class="size24 ComicSansMS24" color="#E9EAF7" face="'Comic Sans MS'\, Arial\, Helvetica\, sans-serif" style="font-size: 32px\; line-height: normal\;">Saturday\, July 7th</font></div>\n\n<div align="left" style="color: rgb(0\, 0\, 0)\; font-family: &quot\;Times New Roman&quot\;\; background-color: rgb(0\, 0\, 0)\; font-size: 1px\; line-height: 1px\;"><font class="size24 ComicSansMS24" color="#E9EAF7" face="'Comic Sans MS'\, Arial\, Helvetica\, sans-serif" style="font-size: 32px\; line-height: normal\;">caller Elaine Mikenas</font></div>\n\n<div style="color: rgb(0\, 0\, 0)\; font-family: &quot\;Times New Roman&quot\;\; background-color: rgb(0\, 0\, 0)\; font-size: 1px\; line-height: 1px\;">&nbsp\;</div>\n\n<div style="color: rgb(0\, 0\, 0)\; font-family: &quot\;Times New Roman&quot\;\; background-color: rgb(0\, 0\, 0)\; font-size: 1px\; line-height: 1px\;"><font class="size16 Helvetica16" color="#E9EAF7" style="font-size: 20px\; font-family: Arial\, Helvetica\, adobe-helvetica\, &quot\;Arial Narrow&quot\;\; line-height: 23px\; min-height: 23px\;">12:00&nbsp\; Square Dancing</font></div>\n\n<div style="color: rgb(0\, 0\, 0)\; font-family: &quot\;Times New Roman&quot\;\; background-color: rgb(0\, 0\, 0)\; font-size: 1px\; line-height: 1px\;"><font class="size16 Helvetica16" color="#E9EAF7" style="font-size: 20px\; font-family: Arial\, Helvetica\, adobe-helvetica\, &quot\;Arial Narrow&quot\;\; line-height: 23px\; min-height: 23px\;">&nbsp\; &nbsp\; &nbsp\; &nbsp\; &nbsp\; &nbsp\;&nbsp\; no experience necessary</font></div>\n\n<div style="color: rgb(0\, 0\, 0)\; font-family: &quot\;Times New Roman&quot\;\; background-color: rgb(0\, 0\, 0)\; font-size: 1px\; line-height: 1px\;">&nbsp\;</div>\n\n<div style="color: rgb(0\, 0\, 0)\; font-family: &quot\;Times New Roman&quot\;\; background-color: rgb(0\, 0\, 0)\; font-size: 1px\; line-height: 1px\;"><font class="size16 Helvetica16" color="#E9EAF7" style="font-size: 20px\; font-family: Arial\, Helvetica\, adobe-helvetica\, &quot\;Arial Narrow&quot\;\; line-height: 23px\; min-height: 23px\;">&nbsp\; 1:00&nbsp\; Pot Luck Lunch</font></div>\n\n<div style="color: rgb(0\, 0\, 0)\; font-family: &quot\;Times New Roman&quot\;\; background-color: rgb(0\, 0\, 0)\; font-size: 1px\; line-height: 1px\;">&nbsp\;</div>\n\n<div style="color: rgb(0\, 0\, 0)\; font-family: &quot\;Times New Roman&quot\;\; background-color: rgb(0\, 0\, 0)\; font-size: 1px\; line-height: 1px\;"><font class="size16 Helvetica16" color="#E9EAF7" style="font-size: 20px\; font-family: Arial\, Helvetica\, adobe-helvetica\, &quot\;Arial Narrow&quot\;\; line-height: 23px\; min-height: 23px\;">&nbsp\; 2:00&nbsp\; Square Dancing\, Mainstream &amp\; Plus</font></div>\n\n<div style="color: rgb(0\, 0\, 0)\; font-family: &quot\;Times New Roman&quot\;\; background-color: rgb(0\, 0\, 0)\; font-size: 1px\; line-height: 1px\;"><font class="size16 Helvetica16" color="#E9EAF7" style="font-size: 20px\; font-family: Arial\, Helvetica\, adobe-helvetica\, &quot\;Arial Narrow&quot\;\; line-height: 23px\; min-height: 23px\;">&nbsp\; &nbsp\; &nbsp\; &nbsp\; &nbsp\; &nbsp\; &nbsp\; with Round Dancing Phase 2-4</font></div>\n
LOCATION:The Shoeleather Express 31 Spring St Gloversville NY 12078
UID:e.97.43471
SEQUENCE:3
DTSTAMP:20260421T114203Z
URL:https://business.fultonmontgomeryny.org/events/details/square-dancing-at-shoeleather-express-43471
END:VEVENT

END:VCALENDAR
