BEGIN:VCALENDAR
VERSION:2.0
PRODID:-//ChamberMaster//Event Calendar 2.0//EN
METHOD:PUBLISH
X-PUBLISHED-TTL:P3D
REFRESH-INTERVAL:P3D
CALSCALE:GREGORIAN
BEGIN:VEVENT
DTSTART:20260114T210000Z
DTEND:20260114T220000Z
X-MICROSOFT-CDO-ALLDAYEVENT:FALSE
SUMMARY:SenseStations (Grades PreK-3) at Gloversville Public Library
DESCRIPTION:Explore our fun\, age-specific sensory bins filled with toys\, sand\, and more touchy-feely things!!\n\n\n\n*Please note that children under age 7 must be accompanied by an adult caregiver for all programs*\n\n\n\nRegistration is required ONLY 4 SPOTS LEFT\, AS OF 01/14/2026
X-ALT-DESC;FMTTYPE=text/html:<h3 style="margin: 0px 0px 1em\; padding: 0px\; box-sizing: border-box\; font-weight: 700\; font-size: 1em\; color: rgb(0\, 0\, 0)\; line-height: 1.5\; font-family: &quot\;Source Sans 3&quot\;\, tahoma\, arial\, sans-serif\;">Explore our fun\, age-specific sensory bins filled with toys\, sand\, and more touchy-feely things!!<br />\n<br />\n*Please note that children under age 7 must be accompanied by an adult caregiver for all programs*<br />\n<br />\n<u><strong>Registration is required</strong></u>&nbsp\;<span style="color:#FF0000\;">ONLY 4 SPOTS LEFT\, AS OF 01/14/2026</span></h3>\n
LOCATION:Youth Activity Room\, Gloversville Public Library\, 58 East Fulton Street\, Gloversville
UID:e.97.47088
SEQUENCE:3
DTSTAMP:20260422T130907Z
URL:https://business.fultonmontgomeryny.org/events/details/sensestations-grades-prek-3-at-gloversville-public-library-47088
END:VEVENT

END:VCALENDAR
