BEGIN:VCALENDAR
VERSION:2.0
PRODID:-//ChamberMaster//Event Calendar 2.0//EN
METHOD:PUBLISH
X-PUBLISHED-TTL:P3D
REFRESH-INTERVAL:P3D
CALSCALE:GREGORIAN
BEGIN:VEVENT
DTSTART:20240512T150000Z
DTEND:20240512T200000Z
X-MICROSOFT-CDO-ALLDAYEVENT:FALSE
SUMMARY:Sacandaga Protection Committee Raffle at Wemple & Edick's Craft Fair
DESCRIPTION:The Sacandaga Protection Committee will be at the Wemple & Edick's Spring Fair to sell raffle tickets for our Bet on the Lake raffle.\n\n\n\nWe will also be there to sign anyone up who would like to come to the Golf Outing Cocktail Hour and Silent Auction on June 1st at Hales Mills Country Club. You don't have to golf to come. It's $20 to just come to the Cocktail Hour and Auction. We will have works by local artists\, gift certificates to local restaurants\, a sunset cruise\, a fishing trip\, glamping and a large assortment of other items. We encourage you to join us!
X-ALT-DESC;FMTTYPE=text/html:<div class="xdj266r x11i5rnm xat24cr x1mh8g0r x1vvkbs x126k92a" color:="" font-size:="" segoe="" style="margin: 0px\; white-space-collapse: preserve\; overflow-wrap: break-word\; font-family: " ui="">\n<div dir="auto" style="font-family: inherit\;">The Sacandaga Protection Committee will be at the Wemple &amp\; Edick&#39\;s Spring Fair to sell raffle tickets for our<strong> Bet on the Lake raffle.</strong></div>\n</div>\n\n<div class="x11i5rnm xat24cr x1mh8g0r x1vvkbs xtlvy1s x126k92a" color:="" font-size:="" segoe="" style="margin: 0.5em 0px 0px\; white-space-collapse: preserve\; overflow-wrap: break-word\; font-family: " ui="">\n<div dir="auto" style="font-family: inherit\;">We will also be there to sign anyone up who would like to come to the Golf Outing Cocktail Hour and Silent Auction on June 1st at Hales Mills Country Club. You don&#39\;t have to golf to come. It&#39\;s $20 to just come to the Cocktail Hour and Auction. We will have works by local artists\, gift certificates to local restaurants\, a sunset cruise\, a fishing trip\, glamping and a large assortment of other items. We encourage you to join us!</div>\n</div>\n
LOCATION:Wemple & Edicks 453 St Hwy 334 Johnstown NY 12095
UID:e.97.42718
SEQUENCE:3
DTSTAMP:20260424T045405Z
URL:https://business.fultonmontgomeryny.org/events/details/sacandaga-protection-committee-raffle-at-wemple-edick-s-craft-fair-42718
END:VEVENT

END:VCALENDAR
