BEGIN:VCALENDAR
VERSION:2.0
PRODID:-//ChamberMaster//Event Calendar 2.0//EN
METHOD:PUBLISH
X-PUBLISHED-TTL:P3D
REFRESH-INTERVAL:P3D
CALSCALE:GREGORIAN
BEGIN:VEVENT
DTSTART:20250605T210000Z
DTEND:20250605T223000Z
X-MICROSOFT-CDO-ALLDAYEVENT:FALSE
SUMMARY:Ribbon Cutting at Reets Bayside Marina: Freedom Boat Club
DESCRIPTION:You're Invited!\n\nRibbon Cutting at Reets Bayside Maria\n\nJune 5 at 5:00 PM\n\n\n\nReets Bayside Marina is now part of the Freedom Boat Club on the Great Sacandaga Lake. Freedom Boat Club is the world's first and largest boat club offering zero-maintenance boating at more than 400 locations worldwide. Members simply reserve boats online or by phone\, and they make sure your reserved boat is fueled up and ready to go when you arrive. They also take care of boat maintenance\, cleaning\, repairs\, insurance and storage. So all you have to do is focus on the fun.\n\n\n\n  Location: 275 Lakeside Drive\, Mayfield\n\n  SEACHOICE Paddleboard Giveaway at ribbon cutting\n\n  Don't miss out on free boat rides\, complimentary food & drinks and a change to win a paddleboard\n\n\n\nRSVP: Register on our website or email us at fultonmontgomeryny@gmail.com. Come network\, explore the new offerings\, and help us welcome this exciting new venture to the community!
X-ALT-DESC;FMTTYPE=text/html:You&#39\;re Invited!<br />\nRibbon Cutting at Reets Bayside Maria<br />\nJune 5 at 5:00 PM<br />\n<br />\n<a href="https://reetsboatworks.com/marina/"><span style="text-decoration:none\;text-underline:none\;"><span style="color:windowtext\;">Reets Bayside Marina</span></span></a>&nbsp\;is now part of the&nbsp\;Freedom Boat Club&nbsp\;on the&nbsp\;<a href="https://reetsboatworks.com/about-the-great-sacandaga-lake/"><span style="text-decoration:none\;text-underline:none\;"><span style="color:windowtext\;">Great Sacandaga Lake</span></span></a>. Freedom Boat Club is the world&rsquo\;s first and largest boat club offering zero-maintenance boating at more than 400 locations worldwide. Members simply reserve boats online or by phone\, and they make sure your reserved boat is fueled up and ready to go when you arrive. They also take care of boat maintenance\, cleaning\, repairs\, insurance and storage. So all you have to do is focus on the fun.<br />\n<br />\n<span style="font-family:segoe ui emoji\,sans-serif\;">&#128205\;&nbsp\;</span>Location:&nbsp\;275 Lakeside Drive\, Mayfield<br />\n<span style="font-family:segoe ui emoji\,sans-serif\;">&#127881\; </span>SEACHOICE Paddleboard Giveaway at ribbon cutting<br />\n&#128676\; Don&#39\;t miss out on free boat rides\, complimentary food &amp\; drinks and a change to win a paddleboard<br />\n<br />\nRSVP: Register on our website or email us at&nbsp\;fultonmontgomeryny@gmail.com. Come network\, explore the new offerings\, and help us welcome this exciting new venture to the community!
LOCATION:Reets Bayside Marina 275 Lakeside Drive Mayfield\, NY 12117
UID:e.97.45748
SEQUENCE:3
DTSTAMP:20260424T075924Z
URL:https://business.fultonmontgomeryny.org/events/details/ribbon-cutting-at-reets-bayside-marina-freedom-boat-club-45748
END:VEVENT

END:VCALENDAR
