BEGIN:VCALENDAR
VERSION:2.0
PRODID:-//ChamberMaster//Event Calendar 2.0//EN
METHOD:PUBLISH
X-PUBLISHED-TTL:P3D
REFRESH-INTERVAL:P3D
CALSCALE:GREGORIAN
BEGIN:VEVENT
DTSTART:20240917T160000Z
DTEND:20240917T170000Z
X-MICROSOFT-CDO-ALLDAYEVENT:FALSE
SUMMARY:Ribbon Cutting at 7 Days C-Store
DESCRIPTION:Save The Date
X-ALT-DESC;FMTTYPE=text/html:Save The Date
LOCATION:7 Days C-Store 45 East Main Street Amsterdam\, NY 12010
UID:e.97.44304
SEQUENCE:3
DTSTAMP:20260421T114240Z
URL:https://business.fultonmontgomeryny.org/events/details/ribbon-cutting-at-7-days-c-store-44304
END:VEVENT

END:VCALENDAR
