BEGIN:VCALENDAR
VERSION:2.0
PRODID:-//ChamberMaster//Event Calendar 2.0//EN
METHOD:PUBLISH
X-PUBLISHED-TTL:P3D
REFRESH-INTERVAL:P3D
CALSCALE:GREGORIAN
BEGIN:VEVENT
DTSTART:20240223T190000Z
DTEND:20240223T200000Z
X-MICROSOFT-CDO-ALLDAYEVENT:FALSE
SUMMARY:One Life
DESCRIPTION:Ribbon Cutting
X-ALT-DESC;FMTTYPE=text/html:Ribbon Cutting
LOCATION:
UID:e.97.42399
SEQUENCE:3
DTSTAMP:20260424T090112Z
URL:https://business.fultonmontgomeryny.org/events/details/one-life-42399
END:VEVENT

END:VCALENDAR
