BEGIN:VCALENDAR
VERSION:2.0
PRODID:-//ChamberMaster//Event Calendar 2.0//EN
METHOD:PUBLISH
X-PUBLISHED-TTL:P3D
REFRESH-INTERVAL:P3D
CALSCALE:GREGORIAN
BEGIN:VEVENT
DTSTART:20240713T230000Z
DTEND:20240714T010000Z
X-MICROSOFT-CDO-ALLDAYEVENT:FALSE
SUMMARY:Music Concert at Riverlink Park
DESCRIPTION:Hey Amsterdam\, don't miss this weekend's performance at Riverlink Park by the incredibly talented band\, Across the Pond\, performing the music of the Beatles. Arrive early and pick your favorite spot. Yeah\, Yeah\, Yeah!\n\n\n\nRiverlink Park Summer Concert Series\n\nAmsterdam Waterfront Foundation\n\nCity of Amsterdam Tourism Marketing & Recreation\n\n\n\nPlease help me thank our incredibly generous sponsors.\n\n\n\nLiberty ARC\n\nCity of Amsterdam\n\nSticker Mule / Mule Fitness\n\nAlpin Haus\n\nMontgomery County - NY\n\nRiver Ridge Living Center\n\nSt. Mary's Healthcare\, Amsterdam\n\nStewart's Shops\n\nBrown's Ford of Amsterdam\n\nThe Sentinel Assisted Living\n\nCongressman Paul Tonkos Office
X-ALT-DESC;FMTTYPE=text/html:<div class="xdj266r x11i5rnm xat24cr x1mh8g0r x1vvkbs x126k92a" style="margin: 0px\; overflow-wrap: break-word\; white-space-collapse: preserve\; font-family: &quot\;Segoe UI Historic&quot\;\, &quot\;Segoe UI&quot\;\, Helvetica\, Arial\, sans-serif\; color: rgb(5\, 5\, 5)\; font-size: 15px\;">\n<div dir="auto" style="font-family: inherit\;">Hey Amsterdam\, don&#39\;t miss this weekend&#39\;s performance at Riverlink Park by the incredibly talented band\, Across the Pond\, performing the music of the Beatles. Arrive early and pick your favorite spot. Yeah\, Yeah\, Yeah!</div>\n</div>\n\n<div class="x11i5rnm xat24cr x1mh8g0r x1vvkbs xtlvy1s x126k92a" style="margin: 0.5em 0px 0px\; overflow-wrap: break-word\; white-space-collapse: preserve\; font-family: &quot\;Segoe UI Historic&quot\;\, &quot\;Segoe UI&quot\;\, Helvetica\, Arial\, sans-serif\; color: rgb(5\, 5\, 5)\; font-size: 15px\;">\n<div dir="auto" style="font-family: inherit\;">Riverlink Park Summer Concert Series</div>\n\n<div dir="auto" style="font-family: inherit\;">Amsterdam Waterfront Foundation</div>\n\n<div dir="auto" style="font-family: inherit\;">City of Amsterdam Tourism Marketing &amp\; Recreation</div>\n</div>\n\n<div class="x11i5rnm xat24cr x1mh8g0r x1vvkbs xtlvy1s x126k92a" style="margin: 0.5em 0px 0px\; overflow-wrap: break-word\; white-space-collapse: preserve\; font-family: &quot\;Segoe UI Historic&quot\;\, &quot\;Segoe UI&quot\;\, Helvetica\, Arial\, sans-serif\; color: rgb(5\, 5\, 5)\; font-size: 15px\;">\n<div dir="auto" style="font-family: inherit\;"><span class="html-span xdj266r x11i5rnm xat24cr x1mh8g0r xexx8yu x4uap5 x18d9i69 xkhd6sd x1hl2dhg x16tdsg8 x1vvkbs" style="margin: 0px\; text-align: inherit\; overflow-wrap: break-word\; padding: 0px\; font-family: inherit\;"></span>Please help me thank our incredibly generous sponsors.</div>\n</div>\n\n<div class="x11i5rnm xat24cr x1mh8g0r x1vvkbs xtlvy1s x126k92a" style="margin: 0.5em 0px 0px\; overflow-wrap: break-word\; white-space-collapse: preserve\; font-family: &quot\;Segoe UI Historic&quot\;\, &quot\;Segoe UI&quot\;\, Helvetica\, Arial\, sans-serif\; color: rgb(5\, 5\, 5)\; font-size: 15px\;">\n<div dir="auto" style="font-family: inherit\;">Liberty ARC</div>\n\n<div dir="auto" style="font-family: inherit\;">City of Amsterdam</div>\n\n<div dir="auto" style="font-family: inherit\;">Sticker Mule / Mule Fitness</div>\n\n<div dir="auto" style="font-family: inherit\;">Alpin Haus</div>\n\n<div dir="auto" style="font-family: inherit\;">Montgomery County - NY</div>\n\n<div dir="auto" style="font-family: inherit\;">River Ridge Living Center</div>\n\n<div dir="auto" style="font-family: inherit\;">St. Mary&#39\;s Healthcare\, Amsterdam</div>\n\n<div dir="auto" style="font-family: inherit\;">Stewart&#39\;s Shops</div>\n\n<div dir="auto" style="font-family: inherit\;">Brown&#39\;s Ford of Amsterdam</div>\n\n<div dir="auto" style="font-family: inherit\;">The Sentinel Assisted Living</div>\n\n<div dir="auto" style="font-family: inherit\;">Congressman Paul Tonkos Office</div>\n</div>\n
LOCATION:Riverlink Park Amsterdam NY
UID:e.97.43567
SEQUENCE:3
DTSTAMP:20260421T114241Z
URL:https://business.fultonmontgomeryny.org/events/details/music-concert-at-riverlink-park-43567
END:VEVENT

END:VCALENDAR
