BEGIN:VCALENDAR
VERSION:2.0
PRODID:-//ChamberMaster//Event Calendar 2.0//EN
METHOD:PUBLISH
X-PUBLISHED-TTL:P3D
REFRESH-INTERVAL:P3D
CALSCALE:GREGORIAN
BEGIN:VEVENT
DTSTART:20250222T190000Z
DTEND:20250222T200000Z
X-MICROSOFT-CDO-ALLDAYEVENT:FALSE
SUMMARY:Guest Star Gallery Tour with Barbara Luhmann
DESCRIPTION:Join us for a special program February 22\, at 2 pm at the Arkell Museum. Get a taste of art while the galleries are closed. We have invited artist print maker Barbara Luhmann to give us a tour of The Art of Seeing: Prints By Beth Van Hoesen. Then join us in the classroom for a hands on printing demo.\n\n \n\nThis program is free for adults and teens.\n\n \n\nFor questions\, please call 518-673-2314 ext.106 or email info@arkellmuseum.org\n\n \n\nMade possible by the support of the New York State Council On the Arts with the support of the Office of the Governor and the New York State Legislature.
X-ALT-DESC;FMTTYPE=text/html:<div><span style="font-size:13px">Join us for a special program February 22\, at 2 pm at the Arkell Museum. Get a taste of art while the galleries are closed. We have invited artist print maker Barbara Luhmann to give us a tour of The Art of Seeing: Prints By Beth Van Hoesen. Then join us in the classroom for a hands on printing demo.</span></div>\n\n<div>&nbsp\;</div>\n\n<div><span style="font-size:13px">This program is free for adults and teens.</span></div>\n\n<div>&nbsp\;</div>\n\n<div><span style="font-size:13px">For questions\, please call 518-673-2314 ext.106 or email info@arkellmuseum.org</span></div>\n\n<div>&nbsp\;</div>\n\n<div><span style="font-size:13px">Made possible by the support of the New York State Council On the Arts with the support of the Office of the Governor and the New York State Legislature.</span></div>\n
LOCATION:Arkell Museum and Canajoharie Library 2 Erie Blvd.\, Canajoharie\, NY 13317
UID:e.97.45216
SEQUENCE:3
DTSTAMP:20260424T072819Z
URL:https://business.fultonmontgomeryny.org/events/details/guest-star-gallery-tour-with-barbara-luhmann-45216
END:VEVENT

END:VCALENDAR
