BEGIN:VCALENDAR
VERSION:2.0
PRODID:-//ChamberMaster//Event Calendar 2.0//EN
METHOD:PUBLISH
X-PUBLISHED-TTL:P3D
REFRESH-INTERVAL:P3D
CALSCALE:GREGORIAN
BEGIN:VEVENT
DTSTART:20231109T153000Z
DTEND:20231109T163000Z
X-MICROSOFT-CDO-ALLDAYEVENT:FALSE
SUMMARY:Gloversville Public Library Events: Story Time
DESCRIPTION:STORY TIME\n\nJoin us at the Library to listen to some stories & enjoy a craft or activity!!\n\nLOCATION: EARLY LITERACY ROOM
X-ALT-DESC;FMTTYPE=text/html:<p><strong>STORY TIME</strong><br />\nJoin us&nbsp\;at the Library to listen to some&nbsp\;stories&nbsp\;&amp\; enjoy a craft or activity!!</p>\n\n<p><strong>LOCATION: EARLY LITERACY ROOM</strong></p>\n
LOCATION:Gloversville Public Library 58 East Fulton St Gloversville NY 12078 Located in the Early Literacy Room
UID:e.97.41470
SEQUENCE:3
DTSTAMP:20260421T130350Z
URL:https://business.fultonmontgomeryny.org/events/details/gloversville-public-library-events-story-time-41470
END:VEVENT

END:VCALENDAR
