BEGIN:VCALENDAR
VERSION:2.0
PRODID:-//ChamberMaster//Event Calendar 2.0//EN
METHOD:PUBLISH
X-PUBLISHED-TTL:P3D
REFRESH-INTERVAL:P3D
CALSCALE:GREGORIAN
BEGIN:VEVENT
DTSTART;VALUE=DATE:20250220
DTEND;VALUE=DATE:20250221
TRANSP:TRANSPARENT
X-MICROSOFT-CDO-ALLDAYEVENT:TRUE
SUMMARY:Duplo Day!
DESCRIPTION:Join us in the classroom of the Arkell Museum and Canajoharie Library on February 20th for an all-day drop in Duplo building program. Bring the littles\, we are getting out the Duplo blocks for the young ones to enjoy. Best for ages 0-6 but older siblings welcome.  \n\n\n\nThis is a free program for kids. \n\nFor questions\, please call 518-673-2314 ext. 106 or email info@arkellmuseum.org
X-ALT-DESC;FMTTYPE=text/html:<span style="color:rgb(33\, 37\, 41)\; font-family:-apple-system\,blinkmacsystemfont\,segoe ui\,roboto\,helvetica neue\,arial\,noto sans\,sans-serif\,apple color emoji\,segoe ui emoji\,segoe ui symbol\,noto color emoji\; font-size:16px">Join us in the classroom of the Arkell Museum and Canajoharie Library on February 20th for an all-day drop in Duplo building program. Bring the littles\, we are getting out the Duplo blocks for the young ones to enjoy. Best for ages 0-6 but older siblings welcome.&nbsp\;&nbsp\;</span><br />\n<br />\n<span style="color:rgb(33\, 37\, 41)\; font-family:-apple-system\,blinkmacsystemfont\,segoe ui\,roboto\,helvetica neue\,arial\,noto sans\,sans-serif\,apple color emoji\,segoe ui emoji\,segoe ui symbol\,noto color emoji\; font-size:16px">This is a free program for kids.&nbsp\;</span><br />\n<span style="color:rgb(33\, 37\, 41)\; font-family:-apple-system\,blinkmacsystemfont\,segoe ui\,roboto\,helvetica neue\,arial\,noto sans\,sans-serif\,apple color emoji\,segoe ui emoji\,segoe ui symbol\,noto color emoji\; font-size:16px">For questions\, please call 518-673-2314 ext. 106 or email info@arkellmuseum.org</span>
LOCATION:Classroom of the Arkell Museum and Canajoharie Library. 2 Erie Blvd.\, Canajoharie\, NY 13317
UID:e.97.45062
SEQUENCE:3
DTSTAMP:20260424T072555Z
URL:https://business.fultonmontgomeryny.org/events/details/duplo-day-45062
END:VEVENT

END:VCALENDAR
