BEGIN:VCALENDAR
VERSION:2.0
PRODID:-//ChamberMaster//Event Calendar 2.0//EN
METHOD:PUBLISH
X-PUBLISHED-TTL:P3D
REFRESH-INTERVAL:P3D
CALSCALE:GREGORIAN
BEGIN:VEVENT
DTSTART:20250206T233000Z
DTEND:20250207T010000Z
X-MICROSOFT-CDO-ALLDAYEVENT:FALSE
SUMMARY:Community Walking Program at Warren St Elementary School
DESCRIPTION:Community Walk information:\n\nProgram Starts:  Monday\, December 2\n\nProgram Ends:  Thursday\, April 10\n\nPlace:  Warren St. Elementary School (110 Warren St\, Johnstown\, NY 12095)\n\nDays:  Monday   Thursday\n\nTime:  6:30   8:00 P.M.\n\n  Please use main entrance upon arrival and sign in with a school attendant\n\n  Program will not run when school is not in session or any day school is canceled due to inclement weather
X-ALT-DESC;FMTTYPE=text/html:<h3 class="wp-block-heading" style="color: var(--wp--preset--color--accent)\; font-family: var(--wp--preset--font-family--roboto-slab)\; font-size: var(--wp--preset--font-size--large)\; margin-block: 1.2rem 0px\;">Community Walk information:</h3>\n\n<p style="margin-block: 1.2rem 0px\; color: rgb(17\, 17\, 17)\; font-family: Roboto\, sans-serif\; font-size: 18px\;">Program Starts:&nbsp\; Monday\, December 2</p>\n\n<p style="margin-block: 1.2rem 0px\; color: rgb(17\, 17\, 17)\; font-family: Roboto\, sans-serif\; font-size: 18px\;">Program Ends:&nbsp\; Thursday\, April 10</p>\n\n<p style="margin-block: 1.2rem 0px\; color: rgb(17\, 17\, 17)\; font-family: Roboto\, sans-serif\; font-size: 18px\;">Place:&nbsp\; Warren St. Elementary School (110 Warren St\, Johnstown\, NY 12095)</p>\n\n<p style="margin-block: 1.2rem 0px\; color: rgb(17\, 17\, 17)\; font-family: Roboto\, sans-serif\; font-size: 18px\;">Days:&nbsp\; Monday &ndash\; Thursday</p>\n\n<p style="margin-block: 1.2rem 0px\; color: rgb(17\, 17\, 17)\; font-family: Roboto\, sans-serif\; font-size: 18px\;">Time:&nbsp\; 6:30 &ndash\; 8:00 P.M.</p>\n\n<p style="margin-block: 1.2rem 0px\; color: rgb(17\, 17\, 17)\; font-family: Roboto\, sans-serif\; font-size: 18px\;">&ndash\; Please use main entrance upon arrival and sign in with a school attendant</p>\n\n<p style="margin-block: 1.2rem 0px\; color: rgb(17\, 17\, 17)\; font-family: Roboto\, sans-serif\; font-size: 18px\;">&ndash\; Program will not run when school is not in session or any day school is canceled due to inclement weather</p>\n
LOCATION:Warren St Elementary School 110 Warren St Johnstown NY 12095
UID:e.97.44978
SEQUENCE:3
DTSTAMP:20260424T070722Z
URL:https://business.fultonmontgomeryny.org/events/details/community-walking-program-at-warren-st-elementary-school-44978
END:VEVENT

END:VCALENDAR
